BEGIN:VCALENDAR
VERSION:2.0
PRODID:icalendar-ruby
CALSCALE:GREGORIAN
METHOD:PUBLISH
BEGIN:VEVENT
DTSTAMP:20260421T173703Z
UID:b7d2254f-f67c-4333-8a13-59d2347a9088
DTSTART:20260529T100000
DTEND:20260531T180000
DESCRIPTION:<p>The Vape Expo is a pioneering event in Africa — a global h
 ub for education\, vape</p><p>culture\, and innovation\, serving the rapid
 ly expanding vape industry and its</p><p>related sectors.</p><p><br></p><p
 ><strong>The Vape Expo – Highlights:</strong></p><p><strong>Exhibitors</
 strong> – Showcasing leading brands and products representing</p><p>ever
 y facet of the industry.</p><p><strong>The Food Market </strong>– Discov
 er a variety of delicious meals\, treats\, and beverages</p><p>from local 
 vendors.</p><p><strong>Mixology Festival</strong> – <span style="color: 
 rgb(0\, 0\, 0)\;">A vibrant outdoor experience featuring live DJs\, music\
 , and entertainment\, creating a festival-style atmosphere across the week
 end.</span></p><p><strong>Co-located with The Cannabis Expo & Mixology Fes
 t</strong> – Offers visitors an exciting and</p><p>comprehensive experie
 nce of two fast-growing lifestyle industries under one</p><p>roof.</p><p><
 strong>The Vape Expo Stage</strong> - Brings together thousands of consume
 rs\, buyers and</p><p>industry leaders from across the world\, engaging in
  talks and presentations</p><p>exploring health\, education and finance.</
 p><p><strong>The VIP Delegate Lounge</strong> – An exclusive hub for net
 working\, deal-making\, and</p><p>connecting with key industry professiona
 ls.</p><p><br></p><p><strong>Opening Hours:</strong></p><p>Friday 29 May 
 – 10:00 to 18:00</p><p>Saturday 30 May – 10:00 to 18:00</p><p>Sunday 3
 1 May – 10:00 to 18:00</p><p><br></p><p><strong>Delegate VIP Tickets Inc
 lude:</strong></p><p>•⁠ ⁠VIP Welcome Pack</p><p>•⁠ ⁠VIP Delega
 te Accreditation</p><p>•⁠ ⁠Exclusive Access to the VIP Delegate Loun
 ge & Meeting Rooms</p><p>•⁠ ⁠Front-Row Seating at the stages</p><p>
 •⁠ ⁠Networking Happy Hour in the Delegate Lounge (Friday 17:00)</p><
 p>•⁠ ⁠Happy Hour at the Mixology Fest (Saturday 18:00–20:00)</p><p
 ><br></p>
LOCATION:161 Maude St\, Sandton\, Sandton\, Gauteng\, 2196
SUMMARY:The Vape Expo
URL;VALUE=URI:https://thevapeexpo.howler.co.za/thevapeexpojhb26
END:VEVENT
END:VCALENDAR
